BEGIN:VCALENDAR
VERSION:2.0
PRODID:-//Downtown Camden - ECPv6.15.19//NONSGML v1.0//EN
CALSCALE:GREGORIAN
METHOD:PUBLISH
X-ORIGINAL-URL:https://mydowntowncamden.com
X-WR-CALDESC:Events for Downtown Camden
REFRESH-INTERVAL;VALUE=DURATION:PT1H
X-Robots-Tag:noindex
X-PUBLISHED-TTL:PT1H
BEGIN:VTIMEZONE
TZID:America/New_York
BEGIN:DAYLIGHT
TZOFFSETFROM:-0500
TZOFFSETTO:-0400
TZNAME:EDT
DTSTART:20250309T070000
END:DAYLIGHT
BEGIN:STANDARD
TZOFFSETFROM:-0400
TZOFFSETTO:-0500
TZNAME:EST
DTSTART:20251102T060000
END:STANDARD
BEGIN:DAYLIGHT
TZOFFSETFROM:-0500
TZOFFSETTO:-0400
TZNAME:EDT
DTSTART:20260308T070000
END:DAYLIGHT
BEGIN:STANDARD
TZOFFSETFROM:-0400
TZOFFSETTO:-0500
TZNAME:EST
DTSTART:20261101T060000
END:STANDARD
BEGIN:DAYLIGHT
TZOFFSETFROM:-0500
TZOFFSETTO:-0400
TZNAME:EDT
DTSTART:20270314T070000
END:DAYLIGHT
BEGIN:STANDARD
TZOFFSETFROM:-0400
TZOFFSETTO:-0500
TZNAME:EST
DTSTART:20271107T060000
END:STANDARD
END:VTIMEZONE
BEGIN:VEVENT
DTSTART;TZID=America/New_York:20260204T163000
DTEND;TZID=America/New_York:20260204T180000
DTSTAMP:20260421T193232
CREATED:20260203T144522Z
LAST-MODIFIED:20260203T144522Z
UID:10002707-1770222600-1770228000@mydowntowncamden.com
SUMMARY:Ida B. Wells Annual Lecture at Rutgers University-Camden
DESCRIPTION:Join us in honoring the legacy of Ida B. Wells\, pioneering journalist and civil rights activist\, whose fearless commitment to justice continues to inspire today. Featuring keynote speaker FreeQuency\, an award-winning spoken word artists and social justice educator whose work bridges arts\, education\, and activism and has been featured on global stages\, including TEDWomen and The New York Times.
URL:https://mydowntowncamden.com/event/ida-b-wells-annual-lecture-at-rutgers-university-camden/
LOCATION:Multi-Purpose Room at the Rutgers-Camden Campus Center\, 326 Penn Street\, Camden\, NJ\, 08102\, United States
ATTACH;FMTTYPE=application/pdf:https://mydowntowncamden.com/wp-content/uploads/2026/02/Rutgers-Camden-Ida-B.-Wells-Lecture-on-Wednesday-Feb.-4.pdf
END:VEVENT
END:VCALENDAR