BEGIN:VCALENDAR
VERSION:2.0
PRODID:-//Downtown Camden - ECPv6.15.19//NONSGML v1.0//EN
CALSCALE:GREGORIAN
METHOD:PUBLISH
X-ORIGINAL-URL:https://mydowntowncamden.com
X-WR-CALDESC:Events for Downtown Camden
REFRESH-INTERVAL;VALUE=DURATION:PT1H
X-Robots-Tag:noindex
X-PUBLISHED-TTL:PT1H
BEGIN:VTIMEZONE
TZID:America/New_York
BEGIN:DAYLIGHT
TZOFFSETFROM:-0500
TZOFFSETTO:-0400
TZNAME:EDT
DTSTART:20240310T070000
END:DAYLIGHT
BEGIN:STANDARD
TZOFFSETFROM:-0400
TZOFFSETTO:-0500
TZNAME:EST
DTSTART:20241103T060000
END:STANDARD
BEGIN:DAYLIGHT
TZOFFSETFROM:-0500
TZOFFSETTO:-0400
TZNAME:EDT
DTSTART:20250309T070000
END:DAYLIGHT
BEGIN:STANDARD
TZOFFSETFROM:-0400
TZOFFSETTO:-0500
TZNAME:EST
DTSTART:20251102T060000
END:STANDARD
BEGIN:DAYLIGHT
TZOFFSETFROM:-0500
TZOFFSETTO:-0400
TZNAME:EDT
DTSTART:20260308T070000
END:DAYLIGHT
BEGIN:STANDARD
TZOFFSETFROM:-0400
TZOFFSETTO:-0500
TZNAME:EST
DTSTART:20261101T060000
END:STANDARD
END:VTIMEZONE
BEGIN:VEVENT
DTSTART;VALUE=DATE:20251009
DTEND;VALUE=DATE:20251010
DTSTAMP:20260421T132710
CREATED:20250804T134310Z
LAST-MODIFIED:20250919T201130Z
UID:10002664-1759968000-1760054399@mydowntowncamden.com
SUMMARY:Viewing Party and Picnic: Navy Marine Corps Homecoming 250 Parade of Ships
DESCRIPTION:Watch up to a dozen Navy ships sail up the Delaware River at the Parade of Ships! This event launches the Navy Marine Corps 250th Homecoming celebration. \nCSSD is hosting a free waterfront viewing party & picnic. Enjoy prime viewing from the Camden Waterfront at RCA Pier Park!  \nThe Camden Waterfront provides the perfect vantage point from the New Jersey side of the Delaware River to witness this extraordinary maritime procession. Watch the ships come up the river\, a special welcome ceremony and the Blessing of the Fleet. \nWhat to know: \n\nFree admission!\nBring chairs and blankets for the best experience\nCoffee and light lunch items will be available for purchase from B418 Cafe and Anthony the Weenie Genie\n\n 
URL:https://mydowntowncamden.com/event/navy-marine-corps-homecoming-250-parade-of-ships/
LOCATION:Camden Waterfront
ATTACH;FMTTYPE=application/pdf:https://mydowntowncamden.com/wp-content/uploads/2025/08/ParadePicnic-Nautical-8.5-x-11-in.pdf
END:VEVENT
END:VCALENDAR