BEGIN:VCALENDAR
VERSION:2.0
PRODID:-//Downtown Camden - ECPv6.15.19//NONSGML v1.0//EN
CALSCALE:GREGORIAN
METHOD:PUBLISH
X-WR-CALNAME:Downtown Camden
X-ORIGINAL-URL:https://mydowntowncamden.com
X-WR-CALDESC:Events for Downtown Camden
REFRESH-INTERVAL;VALUE=DURATION:PT1H
X-Robots-Tag:noindex
X-PUBLISHED-TTL:PT1H
BEGIN:VTIMEZONE
TZID:America/New_York
BEGIN:DAYLIGHT
TZOFFSETFROM:-0500
TZOFFSETTO:-0400
TZNAME:EDT
DTSTART:20250309T070000
END:DAYLIGHT
BEGIN:STANDARD
TZOFFSETFROM:-0400
TZOFFSETTO:-0500
TZNAME:EST
DTSTART:20251102T060000
END:STANDARD
BEGIN:DAYLIGHT
TZOFFSETFROM:-0500
TZOFFSETTO:-0400
TZNAME:EDT
DTSTART:20260308T070000
END:DAYLIGHT
BEGIN:STANDARD
TZOFFSETFROM:-0400
TZOFFSETTO:-0500
TZNAME:EST
DTSTART:20261101T060000
END:STANDARD
BEGIN:DAYLIGHT
TZOFFSETFROM:-0500
TZOFFSETTO:-0400
TZNAME:EDT
DTSTART:20270314T070000
END:DAYLIGHT
BEGIN:STANDARD
TZOFFSETFROM:-0400
TZOFFSETTO:-0500
TZNAME:EST
DTSTART:20271107T060000
END:STANDARD
END:VTIMEZONE
BEGIN:VEVENT
DTSTART;TZID=America/New_York:20260311T083000
DTEND;TZID=America/New_York:20260311T143000
DTSTAMP:20260421T060317
CREATED:20260302T151514Z
LAST-MODIFIED:20260302T151514Z
UID:10002709-1773217800-1773239400@mydowntowncamden.com
SUMMARY:The Future of Civics
DESCRIPTION:Every generation has a voice in what comes next. Be part of the conversation at The Future of Civics on March 11 at Rutgers University–Camden. This Civic Learning Week event brings together educators\, students\, and civic leaders to center youth voice in democracy.
URL:https://mydowntowncamden.com/event/the-future-of-civics/
LOCATION:Rutgers University Camden\, 314 Linden St.\, Camden\, NJ\, 08102\, United States
ATTACH;FMTTYPE=image/png:https://mydowntowncamden.com/wp-content/uploads/2026/03/Civics.png
END:VEVENT
BEGIN:VEVENT
DTSTART;TZID=America/New_York:20260313T193000
DTEND;TZID=America/New_York:20260313T220000
DTSTAMP:20260421T060317
CREATED:20260306T170715Z
LAST-MODIFIED:20260306T170840Z
UID:10002710-1773430200-1773439200@mydowntowncamden.com
SUMMARY:The Revolutionists at South Camden Theatre
DESCRIPTION:A play by Lauren Gunderson \nIn Celebration of Women’s History Month! \nFour bold women—playwright Olympe de Gouges\, assassin Charlotte Corday\, ribbon-loving Marie Antoinette\, and Haitian rebel Marianne Angelle—team up in a wild\, feminist comedy set amid the Reign of Terror. As they plot\, spar\, and even murder Marat\, they battle the rising madness of 1793 Paris. Blending history and fantasy\, this sharp\, irreverent play explores violence\, legacy\, activism\, and sisterhood—part true story\, part fiction\, part theatrical fever dream—ending in a rousing song and a scaffold.
URL:https://mydowntowncamden.com/event/the-revolutionists-at-south-camden-theatre/2026-03-13/
LOCATION:South Camden Theatre Company\, 400 Jasper St\, Camden\, NJ\, 08104\, United States
ATTACH;FMTTYPE=image/jpeg:https://mydowntowncamden.com/wp-content/uploads/2026/03/TheRevolutionists72.jpg
END:VEVENT
BEGIN:VEVENT
DTSTART;TZID=America/New_York:20260314T193000
DTEND;TZID=America/New_York:20260314T220000
DTSTAMP:20260421T060317
CREATED:20260306T170715Z
LAST-MODIFIED:20260306T170840Z
UID:10002711-1773516600-1773525600@mydowntowncamden.com
SUMMARY:The Revolutionists at South Camden Theatre
DESCRIPTION:A play by Lauren Gunderson \nIn Celebration of Women’s History Month! \nFour bold women—playwright Olympe de Gouges\, assassin Charlotte Corday\, ribbon-loving Marie Antoinette\, and Haitian rebel Marianne Angelle—team up in a wild\, feminist comedy set amid the Reign of Terror. As they plot\, spar\, and even murder Marat\, they battle the rising madness of 1793 Paris. Blending history and fantasy\, this sharp\, irreverent play explores violence\, legacy\, activism\, and sisterhood—part true story\, part fiction\, part theatrical fever dream—ending in a rousing song and a scaffold.
URL:https://mydowntowncamden.com/event/the-revolutionists-at-south-camden-theatre/2026-03-14/
LOCATION:South Camden Theatre Company\, 400 Jasper St\, Camden\, NJ\, 08104\, United States
ATTACH;FMTTYPE=image/jpeg:https://mydowntowncamden.com/wp-content/uploads/2026/03/TheRevolutionists72.jpg
END:VEVENT
BEGIN:VEVENT
DTSTART;TZID=America/New_York:20260315T193000
DTEND;TZID=America/New_York:20260315T220000
DTSTAMP:20260421T060317
CREATED:20260306T170715Z
LAST-MODIFIED:20260306T170840Z
UID:10002712-1773603000-1773612000@mydowntowncamden.com
SUMMARY:The Revolutionists at South Camden Theatre
DESCRIPTION:A play by Lauren Gunderson \nIn Celebration of Women’s History Month! \nFour bold women—playwright Olympe de Gouges\, assassin Charlotte Corday\, ribbon-loving Marie Antoinette\, and Haitian rebel Marianne Angelle—team up in a wild\, feminist comedy set amid the Reign of Terror. As they plot\, spar\, and even murder Marat\, they battle the rising madness of 1793 Paris. Blending history and fantasy\, this sharp\, irreverent play explores violence\, legacy\, activism\, and sisterhood—part true story\, part fiction\, part theatrical fever dream—ending in a rousing song and a scaffold.
URL:https://mydowntowncamden.com/event/the-revolutionists-at-south-camden-theatre/2026-03-15/
LOCATION:South Camden Theatre Company\, 400 Jasper St\, Camden\, NJ\, 08104\, United States
ATTACH;FMTTYPE=image/jpeg:https://mydowntowncamden.com/wp-content/uploads/2026/03/TheRevolutionists72.jpg
END:VEVENT
END:VCALENDAR