BEGIN:VCALENDAR
VERSION:2.0
PRODID:-//Downtown Camden - ECPv6.15.19//NONSGML v1.0//EN
CALSCALE:GREGORIAN
METHOD:PUBLISH
X-WR-CALNAME:Downtown Camden
X-ORIGINAL-URL:https://mydowntowncamden.com
X-WR-CALDESC:Events for Downtown Camden
REFRESH-INTERVAL;VALUE=DURATION:PT1H
X-Robots-Tag:noindex
X-PUBLISHED-TTL:PT1H
BEGIN:VTIMEZONE
TZID:America/New_York
BEGIN:DAYLIGHT
TZOFFSETFROM:-0500
TZOFFSETTO:-0400
TZNAME:EDT
DTSTART:20240310T070000
END:DAYLIGHT
BEGIN:STANDARD
TZOFFSETFROM:-0400
TZOFFSETTO:-0500
TZNAME:EST
DTSTART:20241103T060000
END:STANDARD
BEGIN:DAYLIGHT
TZOFFSETFROM:-0500
TZOFFSETTO:-0400
TZNAME:EDT
DTSTART:20250309T070000
END:DAYLIGHT
BEGIN:STANDARD
TZOFFSETFROM:-0400
TZOFFSETTO:-0500
TZNAME:EST
DTSTART:20251102T060000
END:STANDARD
BEGIN:DAYLIGHT
TZOFFSETFROM:-0500
TZOFFSETTO:-0400
TZNAME:EDT
DTSTART:20260308T070000
END:DAYLIGHT
BEGIN:STANDARD
TZOFFSETFROM:-0400
TZOFFSETTO:-0500
TZNAME:EST
DTSTART:20261101T060000
END:STANDARD
END:VTIMEZONE
BEGIN:VEVENT
DTSTART;VALUE=DATE:20250925
DTEND;VALUE=DATE:20251214
DTSTAMP:20260421T210339
CREATED:20250919T141054Z
LAST-MODIFIED:20250919T141141Z
UID:10002688-1758758400-1765670399@mydowntowncamden.com
SUMMARY:Reynier Llanes: Pursuit of Grace Exhibition
DESCRIPTION:The Stedman Gallery at Rutgers University–Camden offers a series of free public programs in conjunction with their current exhibition\, Reynier Llanes: Pursuit of Grace.  \nYear of the Arts at Rutgers University–Camden presents “Pursuit of Grace” an exhibit by renowned artist\, Reynier Llanes. Llanes’ paintings of imagined landscapes engage visual metaphors that explore personal\, cultural\, environmental\, and social inquiries. Through these subjects\, he asks philosophical questions about time and human experience. His work reminds us that discomfort is a necessary companion on the path to a hopeful and graceful future. \nThis exhibition features previous works from 2017 through 2024 as well as new works created for this exhibition at Rutgers University–Camden \nAbout the Artist\nBorn in Pinar del Rio\, Cuba in 1985. He attended the city’s school of art (Instructores de Arte) for four years and completed his studies in 2004. In 2012 Oxford America recognized him as one of the “New Superstars of Southern Art.” Llanes relocated with his family to Miami in 2015 in order to take advantage of the city’s international art market and vibrant cultural life and to be closer to his home country. His work is represented by prestigious institutions like Harmon Meek Gallery in Naples\, FL\, featured in public collections like the Denver Art Museum and presented at The Butler Institute of American Art\, the Polk Musuem of Art\, among many others. For the years to come\, Reynier would continue to work with institutions and communities in a series of projects focused on exploring the diverse sides of human nature and his exploration of art mediums and techniques. \n\n\n\nEvents\nCoffee + Culture\nThursday\, September 18\, 2025\n12:45–1:45 pm\, Stedman Gallery \nOpening Reception: Pursuit of Grace\nThursday\, September 25\, 2025\n5:00–8:00 pm\, Stedman Gallery \nArtist Workshop: Reynier Llanes\nSaturday\, September 27\, 2025\n10:30–12:30 pm\, Stedman Gallery \nFamily Days\nSunday\, September 21\, 2025\nSunday\, October 19\, 2025\nSunday\, November 16\, 2025\n12:00–3:00 pm\, Stedman Gallery \nExhibition Highlights Tours\nWednesday\, September 24\, 2025\nWednesday\, October 29\, 2025\nWednesday\, November 19\, 2025\n12:30–1:30 pm\, Stedman Gallery \nArtist Talk: Reynier Llanes\nThursday\, October 23\, 2025\n6:00–7:00 pm\, Stedman Gallery \nArt Workshop: Art Students League\nTuesday\, December 2\, 2025\n12:45–1:45 pm\, Stedman Gallery
URL:https://mydowntowncamden.com/event/reynier-llanes-pursuit-of-grace-exhibition/
LOCATION:Stedman Gallery\, 314 Linden Street\, Camden\, NJ\, 08102
ATTACH;FMTTYPE=image/png:https://mydowntowncamden.com/wp-content/uploads/2025/09/reynierllanes.png
END:VEVENT
BEGIN:VEVENT
DTSTART;VALUE=DATE:20251129
DTEND;VALUE=DATE:20251130
DTSTAMP:20260421T210339
CREATED:20251119T182329Z
LAST-MODIFIED:20251119T182329Z
UID:10002696-1764374400-1764460799@mydowntowncamden.com
SUMMARY:Small Business Saturday in Downtown Camden
DESCRIPTION:Join us for a day of great food\, community spirit\, and local shopping in Downtown Camden. Whether you’re craving soul food\, searching for a delicious meal deal\, or picking up groceries for the week\, our neighborhood businesses have something special waiting for you. \nFeatured Offers: \n\n\nKings Menu– Enjoy $3 off your meal when you share their page. \n\n\nCafé B418 – Stop by for their special soul food menu. \n\n\nRiverfront Supermarket – Take advantage of $3.99 hoagies\, 2 dozen XL eggs for $3\, $0.50 off all vegetables\, and more in-store deals. \n\n\nCome visit us this Saturday and experience the vibrant small businesses that help make Downtown Camden unique. \nWe’re proud to participate as a Neighborhood Champion with Shop Small by American Express.
URL:https://mydowntowncamden.com/event/small-business-saturday-in-downtown-camden/
LOCATION:NJ
ATTACH;FMTTYPE=image/jpeg:https://mydowntowncamden.com/wp-content/uploads/2025/11/1.jpg
END:VEVENT
BEGIN:VEVENT
DTSTART;TZID=America/New_York:20251129T110000
DTEND;TZID=America/New_York:20251129T140000
DTSTAMP:20260421T210339
CREATED:20251103T152837Z
LAST-MODIFIED:20251103T152837Z
UID:10002695-1764414000-1764424800@mydowntowncamden.com
SUMMARY:Camden's Healthy Cooking Challenge
DESCRIPTION:Join us for the Healthy Cooking Challenge and discover new culinary skills while taking fun steps toward a healthier lifestyle!\n\n\n\nThis event offers an incredible opportunity to engage with your community members and takes steps towards a healthy lifestyle in a fun and interactive way. The day will include: \n\nWatching a “chopped”-style cooking competition\,\nHealthy living tips\,\nExciting giveaways\,\nA professional cooking demonstration\, fitness class and more!\n\nRegister as soon as possible to be a part of a very fun day! \n\nCooks must be Camden residents and families must participate in groups of 2 to 5 people. The registration deadline is Nov. 14.
URL:https://mydowntowncamden.com/event/camdens-healthy-cooking-challenge/
LOCATION:The Salvation Army Kroc Center\, 1865 Harrison Avenue\, Camden\, NJ\, 08105\, United States
ATTACH;FMTTYPE=image/jpeg:https://mydowntowncamden.com/wp-content/uploads/2025/11/https___cdn.evbuc_.com_images_872487319_1337095505293_1_original.jpg
ORGANIZER;CN="Camden Community Partnership":MAILTO:jsmith@camdencpinc.com
END:VEVENT
END:VCALENDAR