BEGIN:VCALENDAR
VERSION:2.0
PRODID:-//Downtown Camden - ECPv6.15.19//NONSGML v1.0//EN
CALSCALE:GREGORIAN
METHOD:PUBLISH
X-WR-CALNAME:Downtown Camden
X-ORIGINAL-URL:https://mydowntowncamden.com
X-WR-CALDESC:Events for Downtown Camden
REFRESH-INTERVAL;VALUE=DURATION:PT1H
X-Robots-Tag:noindex
X-PUBLISHED-TTL:PT1H
BEGIN:VTIMEZONE
TZID:America/New_York
BEGIN:DAYLIGHT
TZOFFSETFROM:-0500
TZOFFSETTO:-0400
TZNAME:EDT
DTSTART:20240310T070000
END:DAYLIGHT
BEGIN:STANDARD
TZOFFSETFROM:-0400
TZOFFSETTO:-0500
TZNAME:EST
DTSTART:20241103T060000
END:STANDARD
BEGIN:DAYLIGHT
TZOFFSETFROM:-0500
TZOFFSETTO:-0400
TZNAME:EDT
DTSTART:20250309T070000
END:DAYLIGHT
BEGIN:STANDARD
TZOFFSETFROM:-0400
TZOFFSETTO:-0500
TZNAME:EST
DTSTART:20251102T060000
END:STANDARD
BEGIN:DAYLIGHT
TZOFFSETFROM:-0500
TZOFFSETTO:-0400
TZNAME:EDT
DTSTART:20260308T070000
END:DAYLIGHT
BEGIN:STANDARD
TZOFFSETFROM:-0400
TZOFFSETTO:-0500
TZNAME:EST
DTSTART:20261101T060000
END:STANDARD
END:VTIMEZONE
BEGIN:VEVENT
DTSTART;VALUE=DATE:20250925
DTEND;VALUE=DATE:20251214
DTSTAMP:20260422T015841
CREATED:20250919T141054Z
LAST-MODIFIED:20250919T141141Z
UID:10002688-1758758400-1765670399@mydowntowncamden.com
SUMMARY:Reynier Llanes: Pursuit of Grace Exhibition
DESCRIPTION:The Stedman Gallery at Rutgers University–Camden offers a series of free public programs in conjunction with their current exhibition\, Reynier Llanes: Pursuit of Grace.  \nYear of the Arts at Rutgers University–Camden presents “Pursuit of Grace” an exhibit by renowned artist\, Reynier Llanes. Llanes’ paintings of imagined landscapes engage visual metaphors that explore personal\, cultural\, environmental\, and social inquiries. Through these subjects\, he asks philosophical questions about time and human experience. His work reminds us that discomfort is a necessary companion on the path to a hopeful and graceful future. \nThis exhibition features previous works from 2017 through 2024 as well as new works created for this exhibition at Rutgers University–Camden \nAbout the Artist\nBorn in Pinar del Rio\, Cuba in 1985. He attended the city’s school of art (Instructores de Arte) for four years and completed his studies in 2004. In 2012 Oxford America recognized him as one of the “New Superstars of Southern Art.” Llanes relocated with his family to Miami in 2015 in order to take advantage of the city’s international art market and vibrant cultural life and to be closer to his home country. His work is represented by prestigious institutions like Harmon Meek Gallery in Naples\, FL\, featured in public collections like the Denver Art Museum and presented at The Butler Institute of American Art\, the Polk Musuem of Art\, among many others. For the years to come\, Reynier would continue to work with institutions and communities in a series of projects focused on exploring the diverse sides of human nature and his exploration of art mediums and techniques. \n\n\n\nEvents\nCoffee + Culture\nThursday\, September 18\, 2025\n12:45–1:45 pm\, Stedman Gallery \nOpening Reception: Pursuit of Grace\nThursday\, September 25\, 2025\n5:00–8:00 pm\, Stedman Gallery \nArtist Workshop: Reynier Llanes\nSaturday\, September 27\, 2025\n10:30–12:30 pm\, Stedman Gallery \nFamily Days\nSunday\, September 21\, 2025\nSunday\, October 19\, 2025\nSunday\, November 16\, 2025\n12:00–3:00 pm\, Stedman Gallery \nExhibition Highlights Tours\nWednesday\, September 24\, 2025\nWednesday\, October 29\, 2025\nWednesday\, November 19\, 2025\n12:30–1:30 pm\, Stedman Gallery \nArtist Talk: Reynier Llanes\nThursday\, October 23\, 2025\n6:00–7:00 pm\, Stedman Gallery \nArt Workshop: Art Students League\nTuesday\, December 2\, 2025\n12:45–1:45 pm\, Stedman Gallery
URL:https://mydowntowncamden.com/event/reynier-llanes-pursuit-of-grace-exhibition/
LOCATION:Stedman Gallery\, 314 Linden Street\, Camden\, NJ\, 08102
ATTACH;FMTTYPE=image/png:https://mydowntowncamden.com/wp-content/uploads/2025/09/reynierllanes.png
END:VEVENT
BEGIN:VEVENT
DTSTART;TZID=America/New_York:20250925T160000
DTEND;TZID=America/New_York:20250925T180000
DTSTAMP:20260422T015841
CREATED:20250826T141252Z
LAST-MODIFIED:20250828T170934Z
UID:10002684-1758816000-1758823200@mydowntowncamden.com
SUMMARY:Happy Hour Concert Series
DESCRIPTION:Bring a friend\, grab a mocktail\, and chill out with a happy hour concert at Roosevelt Plaza Park\, right outside the City Hall PATCO Station. Happy Hour Concerts are popping up every Thursday in September! \nAJAY – September 4th \nDaniel Spearman Trio – September 11th \nLuke Carlos O’Riley Trio – September 18th \nJamicka Johnson – September 25th
URL:https://mydowntowncamden.com/event/happy-hour-concert-series/2025-09-25/
LOCATION:Roosevelt Plaza Park\, N 5th Street & Market Street\, Camden\, NJ\, 08102\, United States
ATTACH;FMTTYPE=image/jpeg:https://mydowntowncamden.com/wp-content/uploads/2025/08/Camden-CSSD-Events-Branding_Final-sizes-SOCIAL-IG-Post.jpg
END:VEVENT
BEGIN:VEVENT
DTSTART;TZID=America/New_York:20250926T170000
DTEND;TZID=America/New_York:20250926T210000
DTSTAMP:20260422T015841
CREATED:20250818T152627Z
LAST-MODIFIED:20250919T132515Z
UID:10002676-1758906000-1758920400@mydowntowncamden.com
SUMMARY:City of Camden Hispanic Heritage Celebration
DESCRIPTION:Join the City of Camden for a vibrant celebration of Hispanic Heritage at Roosevelt Plaza Park! This community festival honors the rich culture\, traditions\, and contributions of Hispanic and Latino communities. Experience the infectious rhythms and authentic sounds that have made Combo Melaza a beloved fixture in the regional music scene. Get ready to dance as Manny y Los Brothers Band brings their signature blend of traditional and contemporary Latin music to the stage. This family-friendly festival welcomes all!
URL:https://mydowntowncamden.com/event/city-of-camden-hispanic-heritage-celebration/
LOCATION:Roosevelt Plaza Park\, N 5th Street & Market Street\, Camden\, NJ\, 08102\, United States
ATTACH;FMTTYPE=image/avif:https://mydowntowncamden.com/wp-content/uploads/2025/08/NBGURHNXLZFU7I2CPHSMJWFI5Y.avif
END:VEVENT
BEGIN:VEVENT
DTSTART;TZID=America/New_York:20250927T100000
DTEND;TZID=America/New_York:20250927T160000
DTSTAMP:20260422T015841
CREATED:20250919T185059Z
LAST-MODIFIED:20250919T185059Z
UID:10002690-1758967200-1758988800@mydowntowncamden.com
SUMMARY:Delaware River Festival
DESCRIPTION:This annual event brings people together and features a day of family-friendly fun\, educational activities\, and water-centered learning to the Camden and Philadelphia waterfronts. There’s something for everyone! \n\n\n\nFestival highlights include FREE rides on the RiverLink Ferry\, live bird Shows\, views of sailboats racing in the Philadelphia Cup Regatta\, and paddling on the Delaware River.
URL:https://mydowntowncamden.com/event/delaware-river-festival/
LOCATION:Wiggins Park\, 2 Riversie Dr\, Camden\, NJ\, 08103\, United States
ATTACH;FMTTYPE=image/png:https://mydowntowncamden.com/wp-content/uploads/2025/09/best_crop_cp-Saturday-Sept-27-10-a.m.-to-4-p.m.png
GEO:39.943262;-75.131761
X-APPLE-STRUCTURED-LOCATION;VALUE=URI;X-ADDRESS=Wiggins Park 2 Riversie Dr Camden NJ 08103 United States;X-APPLE-RADIUS=500;X-TITLE=2 Riversie Dr:geo:-75.131761,39.943262
END:VEVENT
END:VCALENDAR