BEGIN:VCALENDAR
VERSION:2.0
PRODID:-//Downtown Camden - ECPv6.15.19//NONSGML v1.0//EN
CALSCALE:GREGORIAN
METHOD:PUBLISH
X-ORIGINAL-URL:https://mydowntowncamden.com
X-WR-CALDESC:Events for Downtown Camden
REFRESH-INTERVAL;VALUE=DURATION:PT1H
X-Robots-Tag:noindex
X-PUBLISHED-TTL:PT1H
BEGIN:VTIMEZONE
TZID:America/New_York
BEGIN:DAYLIGHT
TZOFFSETFROM:-0500
TZOFFSETTO:-0400
TZNAME:EDT
DTSTART:20240310T070000
END:DAYLIGHT
BEGIN:STANDARD
TZOFFSETFROM:-0400
TZOFFSETTO:-0500
TZNAME:EST
DTSTART:20241103T060000
END:STANDARD
BEGIN:DAYLIGHT
TZOFFSETFROM:-0500
TZOFFSETTO:-0400
TZNAME:EDT
DTSTART:20250309T070000
END:DAYLIGHT
BEGIN:STANDARD
TZOFFSETFROM:-0400
TZOFFSETTO:-0500
TZNAME:EST
DTSTART:20251102T060000
END:STANDARD
BEGIN:DAYLIGHT
TZOFFSETFROM:-0500
TZOFFSETTO:-0400
TZNAME:EDT
DTSTART:20260308T070000
END:DAYLIGHT
BEGIN:STANDARD
TZOFFSETFROM:-0400
TZOFFSETTO:-0500
TZNAME:EST
DTSTART:20261101T060000
END:STANDARD
END:VTIMEZONE
BEGIN:VEVENT
DTSTART;TZID=America/New_York:20250918T160000
DTEND;TZID=America/New_York:20250918T180000
DTSTAMP:20260422T034025
CREATED:20250826T141252Z
LAST-MODIFIED:20250828T170934Z
UID:10002683-1758211200-1758218400@mydowntowncamden.com
SUMMARY:Happy Hour Concert Series
DESCRIPTION:Bring a friend\, grab a mocktail\, and chill out with a happy hour concert at Roosevelt Plaza Park\, right outside the City Hall PATCO Station. Happy Hour Concerts are popping up every Thursday in September! \nAJAY – September 4th \nDaniel Spearman Trio – September 11th \nLuke Carlos O’Riley Trio – September 18th \nJamicka Johnson – September 25th
URL:https://mydowntowncamden.com/event/happy-hour-concert-series/2025-09-18/
LOCATION:Roosevelt Plaza Park\, N 5th Street & Market Street\, Camden\, NJ\, 08102\, United States
ATTACH;FMTTYPE=image/jpeg:https://mydowntowncamden.com/wp-content/uploads/2025/08/Camden-CSSD-Events-Branding_Final-sizes-SOCIAL-IG-Post.jpg
END:VEVENT
BEGIN:VEVENT
DTSTART;VALUE=DATE:20250919
DTEND;VALUE=DATE:20250922
DTSTAMP:20260422T034025
CREATED:20250919T143523Z
LAST-MODIFIED:20250919T143523Z
UID:10002689-1758240000-1758499199@mydowntowncamden.com
SUMMARY:A Good Farmer by Sharyn Rothstein at South Camden Theatre Company
DESCRIPTION:A moving drama laced with humor and heartache\, A GOOD FARMER is the story of two women—a farm owner and her unlikely best friend\, an illegal Mexican immigrant—fighting to survive in a small town divided by America’s immigration battle. A GOOD FARMER is a play about love\, friendship\, and finding the power to face what divides us. \n“…outstanding…brings the much-needed sense of humanity to the issue of immigration and addresses many of the moral questions we face…This is an important piece of theatre…[a] gem of a show…” —BroadwayWorld. \n“…more timely than ever…emotionally powerful…” —NJ Arts. \nTickets are available for purchase from the South Camden Theatre. Camden resident tickets are $5.
URL:https://mydowntowncamden.com/event/a-good-farmer-by-sharyn-rothstein-at-south-camden-theatre-company/
LOCATION:South Camden Theatre Company\, 400 Jasper St\, Camden\, NJ\, 08104\, United States
ATTACH;FMTTYPE=image/jpeg:https://mydowntowncamden.com/wp-content/uploads/2025/09/2025AGoodFarmer72.jpg
END:VEVENT
END:VCALENDAR