BEGIN:VCALENDAR
VERSION:2.0
PRODID:-//Downtown Camden - ECPv6.15.19//NONSGML v1.0//EN
CALSCALE:GREGORIAN
METHOD:PUBLISH
X-WR-CALNAME:Downtown Camden
X-ORIGINAL-URL:https://mydowntowncamden.com
X-WR-CALDESC:Events for Downtown Camden
REFRESH-INTERVAL;VALUE=DURATION:PT1H
X-Robots-Tag:noindex
X-PUBLISHED-TTL:PT1H
BEGIN:VTIMEZONE
TZID:America/New_York
BEGIN:DAYLIGHT
TZOFFSETFROM:-0500
TZOFFSETTO:-0400
TZNAME:EDT
DTSTART:20240310T070000
END:DAYLIGHT
BEGIN:STANDARD
TZOFFSETFROM:-0400
TZOFFSETTO:-0500
TZNAME:EST
DTSTART:20241103T060000
END:STANDARD
BEGIN:DAYLIGHT
TZOFFSETFROM:-0500
TZOFFSETTO:-0400
TZNAME:EDT
DTSTART:20250309T070000
END:DAYLIGHT
BEGIN:STANDARD
TZOFFSETFROM:-0400
TZOFFSETTO:-0500
TZNAME:EST
DTSTART:20251102T060000
END:STANDARD
BEGIN:DAYLIGHT
TZOFFSETFROM:-0500
TZOFFSETTO:-0400
TZNAME:EDT
DTSTART:20260308T070000
END:DAYLIGHT
BEGIN:STANDARD
TZOFFSETFROM:-0400
TZOFFSETTO:-0500
TZNAME:EST
DTSTART:20261101T060000
END:STANDARD
END:VTIMEZONE
BEGIN:VEVENT
DTSTART;TZID=America/New_York:20250629T120000
DTEND;TZID=America/New_York:20250629T170000
DTSTAMP:20260419T142110
CREATED:20250618T204605Z
LAST-MODIFIED:20250618T204605Z
UID:10002658-1751198400-1751216400@mydowntowncamden.com
SUMMARY:68th Annual San Juan Bautista Parade and Free Concert
DESCRIPTION:Starting at 7th and Elm Streets in Camden\, this annual parade celebrating Puerto Rican heritage makes its way down 3rd Street to MLK Boulevard downtown ending at Riverside Drive in front of Wiggins Park (Close to the Adventure Aquarium). This epic event attracts more than 20\,000 people with music\, dance\, ethnic cuisine\, and incredible parade floats. It’s not to be missed! \nThe parade ends with a free concert at Wiggins Park featuring artist Brenda K Starr\, beginning at 3pm. \nMore information at http://sjbp.org/index.php/activities-events/annual-parade/
URL:https://mydowntowncamden.com/event/68th-annual-san-juan-bautista-parade-and-free-concert/
LOCATION:NJ
ATTACH;FMTTYPE=image/jpeg:https://mydowntowncamden.com/wp-content/uploads/2025/06/IMG_0827-scaled.jpg
END:VEVENT
BEGIN:VEVENT
DTSTART;TZID=America/New_York:20250612T160000
DTEND;TZID=America/New_York:20250612T190000
DTSTAMP:20260419T142110
CREATED:20250509T173007Z
LAST-MODIFIED:20250602T200500Z
UID:10002654-1749744000-1749754800@mydowntowncamden.com
SUMMARY:Downtown Camden Art Crawl
DESCRIPTION:The Downtown Camden Art Crawl is BACK for 2025! \nCome out to Camden’s Art Crawl on Thursday\, June 12 from 4 to 7 PM on Market Street between 2nd and 4th.\n\nStart at our welcome table at 3rd and Market\, then take a walk through an afternoon filled with art\, music\, vendors\, and community.\n\nThis year’s event features 14 activation artists: local creatives who will be making art live on the street. You’ll see painters working on new pieces\, photographers taking portraits\, jewelry makers assembling their designs\, and printmakers creating art on the spot. It’s all about the process!\n\nYou’ll also find 20 local vendors offering handmade goods like artwork\, clothing\, books\, accessories\, skincare\, and more. Support local artisans and discover something new!\n\nDon’t forget to pop into our resident downtown businesses for quick bites and special shopping experiences.\n\nThe Kids Corner at 3rd and Market will be open for coloring\, chalking\, and giant games.\n\nLive musical performances from SoundEVR and Tony Perez & the Latin Wave\, who will keep Market Street grooving all afternoon!\n\nCome for the art\, stay for a fun summer evening full of entertainment and community.\n\nFREE parking will be available at the 2nd and Cooper Lot.
URL:https://mydowntowncamden.com/event/downtown-camden-art-crawl/
LOCATION:NJ
ATTACH;FMTTYPE=image/jpeg:https://mydowntowncamden.com/wp-content/uploads/2025/05/ARTCRAWL_119-scaled.jpg
END:VEVENT
BEGIN:VEVENT
DTSTART;TZID=America/New_York:20250603T120000
DTEND;TZID=America/New_York:20250603T150000
DTSTAMP:20260419T142110
CREATED:20250428T191341Z
LAST-MODIFIED:20250428T191537Z
UID:10002649-1748952000-1748962800@mydowntowncamden.com
SUMMARY:Picnic in the Park: Roosevelt Plaza Park
DESCRIPTION:Have you ever looked at that luscious lawn in front of City Hall and thought\, “what a great spot for a picnic?” We thought the same thing! CSSD invites you to lay out a blanket\, bring a lunch\, and relax during our first ever Picnic in the Park from noon to 3pm. FREE giveaways (while supplies last). This event is for everyone – free and open to the public.
URL:https://mydowntowncamden.com/event/picnic-in-the-park-roosevelt-plaza-park/
LOCATION:Roosevelt Plaza Park\, N 5th Street & Market Street\, Camden\, NJ\, 08102\, United States
ATTACH;FMTTYPE=image/png:https://mydowntowncamden.com/wp-content/uploads/2025/04/PICNIC-IN-THE-PARK-insta-image.png
END:VEVENT
BEGIN:VEVENT
DTSTART;TZID=America/New_York:20250529T160000
DTEND;TZID=America/New_York:20250529T190000
DTSTAMP:20260419T142110
CREATED:20250522T160255Z
LAST-MODIFIED:20250522T160528Z
UID:10002656-1748534400-1748545200@mydowntowncamden.com
SUMMARY:DTC Young Professionals Happy Hour #1 @ Water Street Grill (Hilton Garden Inn - Camden Waterfront)
DESCRIPTION:Mark your calendars! 📆 \nThe 1st DTC Young Professionals Happy Hour of the year is taking place on Thursday\, May 29th from 4PM to 7PM at the Waterfront Grill (Hilton Garden Inn Camden Waterfront Philadelphia) \nThis event is organized by the DTC Young Professionals Council\, and if last year’s happy hour at this spot was any indication… we’re in for another fantastic evening of networking\, great views\, and even better conversations. \nWeather you’re new to the area or have been working in Camden for a while\, this is the perfect opportunity to connect with fellow young professionals\, build community\, and enjoy one of the best waterfront spots in the city! \n🎉Spread the word and bring a friend or colleague!
URL:https://mydowntowncamden.com/event/dtc-young-professionals-happy-hour-1-water-street-grill-hilton-garden-inn-camden-waterfront/
LOCATION:Hilton Garden Inn\, 1 Penn Street\, Camden\, NJ\, 08102\, United States
ATTACH;FMTTYPE=image/png:https://mydowntowncamden.com/wp-content/uploads/2025/05/YP-Happy-Hour-Flyer-May-2025-scaled.png
END:VEVENT
BEGIN:VEVENT
DTSTART;TZID=America/New_York:20250529T120000
DTEND;TZID=America/New_York:20250529T140000
DTSTAMP:20260419T142110
CREATED:20250428T183601Z
LAST-MODIFIED:20250429T192451Z
UID:10002596-1748520000-1748527200@mydowntowncamden.com
SUMMARY:Thursday Lunchtime Concerts: Live Music in Downtown Camden
DESCRIPTION:From noon to 2pm every Thursday in May\, enjoy FREE live music at the corner of 3rd and Market Streets in Downtown Camden\, New Jersey. Co-presented by the IDEA Center\, these mid-day concerts are a great way to share lunch with a friend with free performances by top-notch acts. \nMay 20 Soundevr Funk\, RnB\, Pop\, Jazz and House Music group \nSoundEVR is a band centered around making music that gets people to dance\, drawing\nfrom Funk\, RnB\, Pop\, Jazz and especially House Music. The band originally formed in\n2016 in Oberlin\, Ohio under the leadership of Daniel Spearman. After a number of\ndormant years\, and a move to Philadelphia\, PA\, the band reformed in 2023. When you\ncome to a SoundEVR show\, expect a musical experience expertly curated to get the\nadrenaline pumping and the body moving. Our goal isn’t just to play the hits\, but to\nweave together musical moments that keep the energy high\, much like a DJ that is in\nsync with their audience. We believe there is no greater feeling than seeing people\nvibing to our music\, so if you aren’t dancing\, we aren’t doing our job. SoundEVR\nbrings together some of Philadelphia’s most talented musicians. Collectively\, they\nhave performed throughout the city of Philadelphia\, hitting the stages of The\nBrooklyn Bowl\, City Winery\, Time\, Chris’s Jazz Cafe and the Black Squirrel Club\namong many others.
URL:https://mydowntowncamden.com/event/thursday-lunchtime-concerts-live-music-in-downtown-camden/2025-05-29/
LOCATION:3rd and Market Square\, 3rd & Market Streets\, Camden\, NJ\, 08102\, United States
ATTACH;FMTTYPE=image/jpeg:https://mydowntowncamden.com/wp-content/uploads/2025/04/SoundEVR-Horizontal-scaled.jpg
END:VEVENT
BEGIN:VEVENT
DTSTART;TZID=America/New_York:20250527T120000
DTEND;TZID=America/New_York:20250527T140000
DTSTAMP:20260419T142110
CREATED:20250429T190832Z
LAST-MODIFIED:20250429T190848Z
UID:10002653-1748347200-1748354400@mydowntowncamden.com
SUMMARY:Tuesday Lunchtime Concerts: Free Music in Downtown Camden
DESCRIPTION:Pictured: Musician Lizbeth \nCome out for free live concerts at Roosevelt Plaza Park (outside Camden City Hall) every Tuesday in May presented by Camden Special Services District and Connect the Lots/Camden Community Partnership! \n12PM – 2PM \nLizbeth Tavera is a Dominican singer from South Jersey\, who recently shared her debut single\, “Flores.” Aside from her passion for recording music\, Lizbeth is the founder of LizzyGirl’s Creations\, where she knits custom pieces in her spare time.   \nTuesday\, May 6th — Al Zamora \nTuesday\, May 13th — Don Michael Jr. \nTuesday\, May 20th — Marissa Joy \nTuesday\, May 27th — Lizbeth \n 
URL:https://mydowntowncamden.com/event/tuesday-lunchtime-concerts-free-music-in-downtown-camden-5/
LOCATION:Roosevelt Plaza Park\, N 5th Street & Market Street\, Camden\, NJ\, 08102\, United States
ATTACH;FMTTYPE=image/jpeg:https://mydowntowncamden.com/wp-content/uploads/2025/04/Photo-Apr-28-2025-7-25-51-PM.jpg
END:VEVENT
BEGIN:VEVENT
DTSTART;TZID=America/New_York:20250522T120000
DTEND;TZID=America/New_York:20250522T140000
DTSTAMP:20260419T142110
CREATED:20250429T192146Z
LAST-MODIFIED:20250429T192238Z
UID:10002595-1747915200-1747922400@mydowntowncamden.com
SUMMARY:Thursday Lunchtime Concerts: Live Music in Downtown Camden
DESCRIPTION:From noon to 2pm every Thursday in May\, enjoy FREE live music at the corner of 3rd and Market Streets in Downtown Camden\, New Jersey. Co-presented by the IDEA Center\, these mid-day concerts are a great way to share lunch with a friend with free performances by top-notch acts. \nMay 22 Mary Cross Jazz\, Classic Soul\, and R&B singer \nMary Cross is a distinguished singer-songwriter\, arranger\, producer\, and curator whose passion for music transcends generations. As an independent artist\, she fiercely advocates for fellow creatives\, using her platform to uplift and support the music community. With a voice rich in authenticity and soul\, she continues to build a lasting legacy across the tri-state area and beyond.  A New Jersey native\, Mary possesses a distinctive\, velvety contralto voice that captivates audiences nationwide. Her sold-out performances and collaborations with esteemed artists have cemented her reputation as a powerhouse in jazz\, soul\, and R&B. As the founder of Mary Cross 2NspireU and the Mary Cross Quartet & Quintet (MCQ)\, she brings a fresh yet timeless approach to live music\, blending elegance with emotional depth. \nMay 29 Soundevr Funk\, RnB\, Pop\, Jazz and House Music group
URL:https://mydowntowncamden.com/event/thursday-lunchtime-concerts-live-music-in-downtown-camden-5/
LOCATION:3rd and Market Square\, 3rd & Market Streets\, Camden\, NJ\, 08102\, United States
ATTACH;FMTTYPE=image/png:https://mydowntowncamden.com/wp-content/uploads/2025/04/mcm-transparent-logo-gold-silver.png
END:VEVENT
BEGIN:VEVENT
DTSTART;TZID=America/New_York:20250520T120000
DTEND;TZID=America/New_York:20250520T140000
DTSTAMP:20260419T142110
CREATED:20250429T190742Z
LAST-MODIFIED:20250519T141314Z
UID:10002652-1747742400-1747749600@mydowntowncamden.com
SUMMARY:Tuesday Lunchtime Concerts: Free Music in Downtown Camden
DESCRIPTION:  \n \nPictured: Musician Marrissa Joy \nCome out for free live concerts at Roosevelt Plaza Park (outside Camden City Hall) every Tuesday in May presented by Camden Special Services District and Connect the Lots/Camden Community Partnership! \n12PM – 2PM \nIn a world that craves authenticity and connection\, Marrissa Joy emerges as a distinctive force. Her music serves as a medium for expression\, healing\, and inspiration. As an artist\, she uses her creativity to explore\, uplift\, and inspire\, marking her as a true artist-healer in both the music industry and the broader sphere of holistic wellbeing. \nBeyond her musical endeavors\, Marrissa is a business owner and the founder of NTRU Divine Essences\, a small-batch apothecary specializing in clinical and spiritual herbalism. Her commitment to holistic health and wellness is reflected in her work as a Reiki Practitioner and Clinical Herbalist\, making her a unique voice in the journey toward personal and collective healing. \nTuesday\, May 6th — Al Zamora \nTuesday\, May 13th — Don Michael Jr. \nTuesday\, May 20th — Marrissa Joy \nTuesday\, May 27th — Lizbeth \n 
URL:https://mydowntowncamden.com/event/tuesday-lunchtime-concerts-free-music-in-downtown-camden-4/
LOCATION:Roosevelt Plaza Park\, N 5th Street & Market Street\, Camden\, NJ\, 08102\, United States
ATTACH;FMTTYPE=image/jpeg:https://mydowntowncamden.com/wp-content/uploads/2025/04/A48FA659-3023-4973-8384-C63BEC75D3D9-scaled.jpeg
END:VEVENT
BEGIN:VEVENT
DTSTART;TZID=America/New_York:20250517T090000
DTEND;TZID=America/New_York:20250517T100000
DTSTAMP:20260419T142110
CREATED:20250514T184138Z
LAST-MODIFIED:20250514T184246Z
UID:10002655-1747472400-1747476000@mydowntowncamden.com
SUMMARY:B Winners - Run Club this Friday
DESCRIPTION:  \nCamden’s waterfront offers amazing views of Philadelphia and the Delaware River. Join B Winners in their Run Club this Friday. Walk or run\, this is a great way to get some steps in while meeting new people. Participants meet at 9 am at the intersection or Peral and Water Streets under the Ben Franklin Bridge.
URL:https://mydowntowncamden.com/event/b-winners-run-club-this-friday/
LOCATION:Pearl & Water Streets\, Pearl and Water Streets\, Camden\, NJ\, 08102\, United States
ATTACH;FMTTYPE=image/jpeg:https://mydowntowncamden.com/wp-content/uploads/2025/05/B-winners-run-club-flier.jpg
END:VEVENT
BEGIN:VEVENT
DTSTART;TZID=America/New_York:20250515T120000
DTEND;TZID=America/New_York:20250515T140000
DTSTAMP:20260419T142110
CREATED:20250429T191931Z
LAST-MODIFIED:20250429T191931Z
UID:10002594-1747310400-1747317600@mydowntowncamden.com
SUMMARY:Thursday Lunchtime Concerts: Live Music in Downtown Camden
DESCRIPTION:From noon to 2pm every Thursday in May\, enjoy FREE live music at the corner of 3rd and Market Streets in Downtown Camden\, New Jersey. Co-presented by the IDEA Center\, these mid-day concerts are a great way to share lunch with a friend with free performances by top-notch acts. \nMay 15 Mervin Tousaint Jazz\, RnB\, Neo-soul saxaphonist \nMervin Toussaint is a Philadelphia-based saxophonist\, composer\, and educator whose music\nblends jazz\, R&B\, neo-soul\, and contemporary influences. A HaiDan American arDst\, his musical\nfoundaDon was shaped in the HaiDan church\, and since moving to Philadelphia in 2016\, he has\ncollaborated with renowned acts such as The TemptaDons\, The Four Tops\, Mike Boone\, and V.\nShayne Frederick. \nMay 22 Mary Cross Jazz\, Classic Soul\, and R&B singer \nMay 20 Soundevr Funk\, RnB\, Pop\, Jazz and House Music group
URL:https://mydowntowncamden.com/event/thursday-lunchtime-concerts-live-music-in-downtown-camden-4/
LOCATION:3rd and Market Square\, 3rd & Market Streets\, Camden\, NJ\, 08102\, United States
ATTACH;FMTTYPE=image/jpeg:https://mydowntowncamden.com/wp-content/uploads/2025/04/Mervin-Toussaint-Horizontal-scaled.jpg
END:VEVENT
BEGIN:VEVENT
DTSTART;TZID=America/New_York:20250513T120000
DTEND;TZID=America/New_York:20250513T140000
DTSTAMP:20260419T142110
CREATED:20250429T190551Z
LAST-MODIFIED:20250429T190551Z
UID:10002651-1747137600-1747144800@mydowntowncamden.com
SUMMARY:Tuesday Lunchtime Concerts: Free Music in Downtown Camden
DESCRIPTION:Pictured: Musician Don Michael Jr. \nCome out for free live concerts at Roosevelt Plaza Park (outside Camden City Hall) every Tuesday in May presented by Camden Special Services District and Connect the Lots/Camden Community Partnership! \n12PM – 2PM \nDon Michael Jr. is a multi-talented artist known for his work as a rapper\, producer\, songwriter\, audio engineer and social media influencer. He has collaborated with notable figures in the music industry\, including Jase Harley\, Wiz Khalifa\, Rich Brian\, Rick Ross\, Busta Rhymes and more. Whether Don Michael is ghostwriting for mainstream acts or going viral online\, the Camden Native is putting his skills at the forefront.  \nTuesday\, May 6th — Al Zamora \nTuesday\, May 13th — Don Michael Jr. \nTuesday\, May 20th — Marissa Joy \nTuesday\, May 27th — Lizbeth \n 
URL:https://mydowntowncamden.com/event/tuesday-lunchtime-concerts-free-music-in-downtown-camden-3/
LOCATION:Roosevelt Plaza Park\, N 5th Street & Market Street\, Camden\, NJ\, 08102\, United States
ATTACH;FMTTYPE=image/jpeg:https://mydowntowncamden.com/wp-content/uploads/2025/04/IMG_3253.jpg
END:VEVENT
BEGIN:VEVENT
DTSTART;TZID=America/New_York:20250508T120000
DTEND;TZID=America/New_York:20250508T140000
DTSTAMP:20260419T142110
CREATED:20250429T191705Z
LAST-MODIFIED:20250429T191705Z
UID:10002593-1746705600-1746712800@mydowntowncamden.com
SUMMARY:Thursday Lunchtime Concerts: Live Music in Downtown Camden
DESCRIPTION:From noon to 2pm every Thursday in May\, enjoy FREE live music at the corner of 3rd and Market Streets in Downtown Camden\, New Jersey. Co-presented by the IDEA Center\, these mid-day concerts are a great way to share lunch with a friend with free performances by top-notch acts. \nMay 8 Frank Greene’s Family Affair  Classic Funk \nBorn from the heart of South Jersey\, Frank S. Greene’s A Family Affair Band is a powerhouse\nensemble that delivers the rich\, timeless sounds of Classic R&B\, Philly Soul\, and Motown’s\ngolden era. Fronted by the legendary Frank S. Greene\, a national recording artist with over 40\nyears in the industry\, this band brings a lifetime of musical excellence to every performance. \nMay 15 Mervin Tousaint Jazz\, RnB\, Neo-soul saxaphonist \nMay 22 Mary Cross Jazz\, Classic Soul\, and R&B singer \nMay 20 Soundevr Funk\, RnB\, Pop\, Jazz and House Music group
URL:https://mydowntowncamden.com/event/thursday-lunchtime-concerts-live-music-in-downtown-camden-3/
LOCATION:3rd and Market Square\, 3rd & Market Streets\, Camden\, NJ\, 08102\, United States
ATTACH;FMTTYPE=image/jpeg:https://mydowntowncamden.com/wp-content/uploads/2025/04/Frank-Greene-Horizontal-Photo.jpeg
END:VEVENT
BEGIN:VEVENT
DTSTART;TZID=America/New_York:20250506T120000
DTEND;TZID=America/New_York:20250506T140000
DTSTAMP:20260419T142110
CREATED:20250429T190227Z
LAST-MODIFIED:20250429T190620Z
UID:10002650-1746532800-1746540000@mydowntowncamden.com
SUMMARY:Tuesday Lunchtime Concerts: Free Music in Downtown Camden
DESCRIPTION:Pictured: Musician Al Zamora \nCome out for free live concerts at Roosevelt Plaza Park (outside Camden City Hall) every Tuesday in May presented by Camden Special Services District and Connect the Lots/Camden Community Partnership! \n12PM – 2PM \nAl Zamora is a Costa Rica-born\, Philly-raised\, self-taught singer-songwriter and leukemia survivor who’s making his mark with a sound that’s all his own. Blending metal\, hard rock\, blues\, R&B\, and folk\, Al creates music that’s both genre-bending and deeply personal. His debut EP\, Unfortunate\, I\, released in March 2024\, introduces his storytelling spirit and raw energy to the world. He’s headlined shows at Fringe Bar\, The Fire\, and rocked stages up and down the East Coast — and he’s just getting started. \nTuesday\, May 6th — Al Zamora \nTuesday\, May 13th — Don Michael Jr. \nTuesday\, May 20th — Marissa Joy \nTuesday\, May 27th — Lizbeth \n 
URL:https://mydowntowncamden.com/event/tuesday-lunchtime-concerts-free-music-in-downtown-camden-2/
LOCATION:Roosevelt Plaza Park\, N 5th Street & Market Street\, Camden\, NJ\, 08102\, United States
ATTACH;FMTTYPE=image/jpeg:https://mydowntowncamden.com/wp-content/uploads/2025/04/Photo-Apr-28-2025-7-27-20-PM.jpg
END:VEVENT
BEGIN:VEVENT
DTSTART;TZID=America/New_York:20250501T120000
DTEND;TZID=America/New_York:20250501T140000
DTSTAMP:20260419T142110
CREATED:20250429T191446Z
LAST-MODIFIED:20250429T191446Z
UID:10002592-1746100800-1746108000@mydowntowncamden.com
SUMMARY:Thursday Lunchtime Concerts: Live Music in Downtown Camden
DESCRIPTION:From noon to 2pm every Thursday in May\, enjoy FREE live music at the corner of 3rd and Market Streets in Downtown Camden\, New Jersey. Co-presented by the IDEA Center\, these mid-day concerts are a great way to share lunch with a friend with free performances by top-notch acts. \nMay 1 Street Beans  in their own words \nSTREET BEANS is bringing high quality\, low class\, street music to the stage with the sole\npurpose of getting you out of your seat. STREET BEANS has learned to get people’s attention\nquickly and keep it\, despite the many distractions and concerns of daily life in the city. Each of\nthe band’s members have their own stories to tell\, and they come together as a ball of fire\,\ntaking no prisoners all down the East Coast. \nMay 8 Frank Greene’s Family Affair Classic Funk \nMay 15 Mervin Tousaint Jazz\, RnB\, Neo-soul saxaphonist \nMay 22 Mary Cross Jazz\, Classic Soul\, and R&B singer \nMay 20 Soundevr Funk\, RnB\, Pop\, Jazz and House Music group
URL:https://mydowntowncamden.com/event/thursday-lunchtime-concerts-live-music-in-downtown-camden-2/
LOCATION:3rd and Market Square\, 3rd & Market Streets\, Camden\, NJ\, 08102\, United States
ATTACH;FMTTYPE=image/jpeg:https://mydowntowncamden.com/wp-content/uploads/2025/04/Street-Beans-Horizontal-1.jpg
END:VEVENT
END:VCALENDAR